BEGIN:VCALENDAR
VERSION:2.0
PRODID:-//Pac Training Company  - ECPv6.15.18//NONSGML v1.0//EN
CALSCALE:GREGORIAN
METHOD:PUBLISH
X-ORIGINAL-URL:https://pactrainingcompany.com
X-WR-CALDESC:Events for Pac Training Company 
REFRESH-INTERVAL;VALUE=DURATION:PT1H
X-Robots-Tag:noindex
X-PUBLISHED-TTL:PT1H
BEGIN:VTIMEZONE
TZID:UTC
BEGIN:STANDARD
TZOFFSETFROM:+0000
TZOFFSETTO:+0000
TZNAME:UTC
DTSTART:20240101T000000
END:STANDARD
END:VTIMEZONE
BEGIN:VEVENT
DTSTART;TZID=UTC:20250208T080000
DTEND;TZID=UTC:20250209T170000
DTSTAMP:20260419T225440
CREATED:20241220T220804Z
LAST-MODIFIED:20250110T133114Z
UID:6590-1739001600-1739120400@pactrainingcompany.com
SUMMARY:18 hour New York State Concealed Carry Firearms Safety Training Course
DESCRIPTION:This is the mandatory course for the New York State Concealed Carry Firearm Safety Training as required under New York State Law for a NYS Concealed Carry Pistol License.\n\nIt is a minimum of 18 hours which includes 16 hour classroom and 2 hour range session.\nIn order to pass\, attendees are required to pass a written examination scoring a minimum of 80% as well as shoot a live fire minimum proficiency qualification at the range.\nThis course meets the minimum standards as outlined by the DCJS\n  \n* Our Class is approved for Wayne\, Seneca\, Ontario\, Yates & Monroe County Residents *\n  \nClass will be from 8a – 5p on both days
URL:https://pactrainingcompany.com/event/18-hour-new-york-state-concealed-carry-firearms-safety-training-course-3/
LOCATION:Sodus Point Sportmans’s Club\, 7812 Margaretta Rd\, Sodus Point\, NY\, 14555\, United States
ATTACH;FMTTYPE=image/jpeg:https://pactrainingcompany.com/wp-content/uploads/2024/12/18hr.jpeg
END:VEVENT
END:VCALENDAR